BEGIN:VCALENDAR
VERSION:2.0
PRODID:-//Sustainable Arlington - ECPv6.15.17//NONSGML v1.0//EN
CALSCALE:GREGORIAN
METHOD:PUBLISH
X-WR-CALNAME:Sustainable Arlington
X-ORIGINAL-URL:https://sustainablearlington.org
X-WR-CALDESC:Events for Sustainable Arlington
REFRESH-INTERVAL;VALUE=DURATION:PT1H
X-Robots-Tag:noindex
X-PUBLISHED-TTL:PT1H
BEGIN:VTIMEZONE
TZID:America/New_York
BEGIN:DAYLIGHT
TZOFFSETFROM:-0500
TZOFFSETTO:-0400
TZNAME:EDT
DTSTART:20250309T070000
END:DAYLIGHT
BEGIN:STANDARD
TZOFFSETFROM:-0400
TZOFFSETTO:-0500
TZNAME:EST
DTSTART:20251102T060000
END:STANDARD
BEGIN:DAYLIGHT
TZOFFSETFROM:-0500
TZOFFSETTO:-0400
TZNAME:EDT
DTSTART:20260308T070000
END:DAYLIGHT
BEGIN:STANDARD
TZOFFSETFROM:-0400
TZOFFSETTO:-0500
TZNAME:EST
DTSTART:20261101T060000
END:STANDARD
BEGIN:DAYLIGHT
TZOFFSETFROM:-0500
TZOFFSETTO:-0400
TZNAME:EDT
DTSTART:20270314T070000
END:DAYLIGHT
BEGIN:STANDARD
TZOFFSETFROM:-0400
TZOFFSETTO:-0500
TZNAME:EST
DTSTART:20271107T060000
END:STANDARD
END:VTIMEZONE
BEGIN:VEVENT
DTSTART;TZID=America/New_York:20260309T191500
DTEND;TZID=America/New_York:20260309T213000
DTSTAMP:20260420T083931
CREATED:20260307T204114Z
LAST-MODIFIED:20260307T204114Z
UID:570-1773083700-1773091800@sustainablearlington.org
SUMMARY:Select Board hears Native Plant Bylaw\, other Open Space articles for Town Mtg.
DESCRIPTION:On Mon.\, March 9 at 7:15 pm\, before the Arlington Select Board\, the first set of warrant articles to be heard all concern care for Arlington’s Open Space.  Hear proposals to: create dark night skies for moths and other wildlife in Arlington\, preserve trees\, and protect our wetlands and public parks. Environmental Planner David Morgan will present a proposed bylaw that will require native plantings on public lands –  natives found currently in our ecosystem as well as those that will adapt well to predictions of our future climate. It will also require responsible sourcing of plants raised without exposure to neonicotinoid chemicals.  Hybrid meeting. Online registration here. \n10. Warrant Article Hearings\, March 9\, Select Board \n\nArticle 6 Removal of a Public Shade Tree\nArticle 8 Bylaw Amendment / Regulation of Outdoor Lighting [Dark skies]\nArticle 9 Bylaw Amendment / Native Plantings on Public Lands\nArticle 10 Bylaw Amendment / Wetlands Protection\nArticle 11 Bylaw Amendment / Wetlands Bylaw Enforcement\nArticle 14 Bylaw Amendment / Tree Committee Rules and Procedures\nArticle 22 Bylaw Amendment / Use of Areas Under Control of Park Department\nArticle 23 Bylaw Amendment / Tree Preservation and Protection
URL:https://sustainablearlington.org/event/select-board-hears-native-plant-bylaw-other-open-space-articles-for-town-mtg/
LOCATION:Online\, United States
END:VEVENT
END:VCALENDAR